BEGIN:VCALENDAR
VERSION:2.0
PRODID:-//Dorfgemeinschaft Daudenzell e.V. - ECPv6.15.20//NONSGML v1.0//EN
CALSCALE:GREGORIAN
METHOD:PUBLISH
X-ORIGINAL-URL:https://daudenzell.de
X-WR-CALDESC:Veranstaltungen für Dorfgemeinschaft Daudenzell e.V.
REFRESH-INTERVAL;VALUE=DURATION:PT1H
X-Robots-Tag:noindex
X-PUBLISHED-TTL:PT1H
BEGIN:VTIMEZONE
TZID:Europe/Berlin
BEGIN:DAYLIGHT
TZOFFSETFROM:+0100
TZOFFSETTO:+0200
TZNAME:CEST
DTSTART:20220327T010000
END:DAYLIGHT
BEGIN:STANDARD
TZOFFSETFROM:+0200
TZOFFSETTO:+0100
TZNAME:CET
DTSTART:20221030T010000
END:STANDARD
BEGIN:DAYLIGHT
TZOFFSETFROM:+0100
TZOFFSETTO:+0200
TZNAME:CEST
DTSTART:20230326T010000
END:DAYLIGHT
BEGIN:STANDARD
TZOFFSETFROM:+0200
TZOFFSETTO:+0100
TZNAME:CET
DTSTART:20231029T010000
END:STANDARD
BEGIN:DAYLIGHT
TZOFFSETFROM:+0100
TZOFFSETTO:+0200
TZNAME:CEST
DTSTART:20240331T010000
END:DAYLIGHT
BEGIN:STANDARD
TZOFFSETFROM:+0200
TZOFFSETTO:+0100
TZNAME:CET
DTSTART:20241027T010000
END:STANDARD
END:VTIMEZONE
BEGIN:VEVENT
DTSTART;TZID=Europe/Berlin:20230528T100000
DTEND;TZID=Europe/Berlin:20230529T170000
DTSTAMP:20260423T073037
CREATED:20230426T122915Z
LAST-MODIFIED:20230507T175409Z
UID:18-1685268000-1685379600@daudenzell.de
SUMMARY:Pfingstmarkt Daudenzell 2023
DESCRIPTION:Der Zeller Pfingstmarkt ist ein Dorfmarkt\, der jedes Jahr am Pfingstsonntag und Pfingstmontag im Ortskern von Daudenzell von den örtlichen Vereinen ausgetragen wird. \nNach einem Gottesdienst unter freiem Himmel am Sonntag um 10 Uhr\, schlägt Bürgermeister Stefan Kron um 11 Uhr mit musikalischer Umrahmung durch die SF Band aus Schwarzach das Fass an und eröffnet den Pfingstmarkt. \nDie Besucher erwartet eine große Auswahl regionaler Köstlichkeiten\, wie Forelle im Bierteig\, gegrillte Haxen\, Grünkernküchle\, ein großes Kuchenbuffet und vieles mehr. Zahlreiche Verkaufsstände und Schausteller laden zum Bummeln und Verweilen ein. \nAn beiden Tagen ist die musikalische Umrahmung durch verschiedene Livegruppen gesichert. Für die Nachtschwärmer ist am Sonntag ab 21 Uhr die Bar geöffnet. Tagsüber ist eine Planwagenfahrt zwischen Daudenzell und Aglasterhausen eingerichtet. Dort besteht Anschluss zur S-Bahn Linie 51 Richtung Meckesheim. \n\nZeller Pfingstmarkt 2023 mit 1. Zeller Schleppertreff
URL:https://daudenzell.de/event/pfingstmarkt-daudenzell-2023/
LOCATION:Daudenzell Ortszentrum\, Rathaustraße 1\, Daudenzell-Aglasterhausen\, 74858\, Deutschland
ORGANIZER;CN="Dorfgemeinschaft Daudenzell e.V.":MAILTO:dorfgemeinschaft-daudenzell@web.de
END:VEVENT
BEGIN:VEVENT
DTSTART;TZID=Europe/Berlin:20230528T110000
DTEND;TZID=Europe/Berlin:20230529T170000
DTSTAMP:20260423T073038
CREATED:20230503T194039Z
LAST-MODIFIED:20230509T074614Z
UID:104-1685271600-1685379600@daudenzell.de
SUMMARY:1. Zeller Schleppertreffen
DESCRIPTION:Im Rahmen des diesjährigen Daudenzeller Pfingstmarktes findet das 1. Zeller Schleppertreffen statt. \nFolgendes ist dabei unter anderem geboten: \n\nSonntag 11 Uhr Fassanstich\nFahrerlager\nSonntags Schlepperprämierung\nLivemusik an beiden Tagen\nBarbetrieb sonntags ab 21 Uhr\n\nAnmeldungen für das Fahrerlager unter dorfgemeinschaft-daudenzell@web.de
URL:https://daudenzell.de/event/1-zeller-schleppertreffen/
LOCATION:Daudenzell Ortszentrum\, Rathaustraße 1\, Daudenzell-Aglasterhausen\, 74858\, Deutschland
ORGANIZER;CN="Dorfgemeinschaft Daudenzell e.V.":MAILTO:dorfgemeinschaft-daudenzell@web.de
END:VEVENT
END:VCALENDAR