BEGIN:VCALENDAR
VERSION:2.0
PRODID:-//Dorfgemeinschaft Daudenzell e.V. - ECPv6.15.20//NONSGML v1.0//EN
CALSCALE:GREGORIAN
METHOD:PUBLISH
X-ORIGINAL-URL:https://daudenzell.de
X-WR-CALDESC:Veranstaltungen für Dorfgemeinschaft Daudenzell e.V.
REFRESH-INTERVAL;VALUE=DURATION:PT1H
X-Robots-Tag:noindex
X-PUBLISHED-TTL:PT1H
BEGIN:VTIMEZONE
TZID:Europe/Helsinki
BEGIN:DAYLIGHT
TZOFFSETFROM:+0200
TZOFFSETTO:+0300
TZNAME:EEST
DTSTART:20230326T010000
END:DAYLIGHT
BEGIN:STANDARD
TZOFFSETFROM:+0300
TZOFFSETTO:+0200
TZNAME:EET
DTSTART:20231029T010000
END:STANDARD
BEGIN:DAYLIGHT
TZOFFSETFROM:+0200
TZOFFSETTO:+0300
TZNAME:EEST
DTSTART:20240331T010000
END:DAYLIGHT
BEGIN:STANDARD
TZOFFSETFROM:+0300
TZOFFSETTO:+0200
TZNAME:EET
DTSTART:20241027T010000
END:STANDARD
BEGIN:DAYLIGHT
TZOFFSETFROM:+0200
TZOFFSETTO:+0300
TZNAME:EEST
DTSTART:20250330T010000
END:DAYLIGHT
BEGIN:STANDARD
TZOFFSETFROM:+0300
TZOFFSETTO:+0200
TZNAME:EET
DTSTART:20251026T010000
END:STANDARD
END:VTIMEZONE
BEGIN:VEVENT
DTSTART;TZID=Europe/Helsinki:20240430T180000
DTEND;TZID=Europe/Helsinki:20240430T200000
DTSTAMP:20260422T112621
CREATED:20240424T153049Z
LAST-MODIFIED:20240424T153049Z
UID:401-1714500000-1714507200@daudenzell.de
SUMMARY:Maibaum-Aufstellung
DESCRIPTION:  \nDie freiwillige Feuerwehr Daudenzell stellt wieder den Maibaum auf dem Marktplatz auf.Beginn ist 18 Uhr\, die Aufstellung erfolgt um 19 Uhr.Für das leibliche Wohl ist gesorgt.
URL:https://daudenzell.de/event/maibaum-aufstellung/
LOCATION:Daudenzell Ortszentrum\, Rathaustraße 1\, Daudenzell-Aglasterhausen\, 74858\, Deutschland
END:VEVENT
END:VCALENDAR