BEGIN:VCALENDAR
VERSION:2.0
PRODID:-//Dorfgemeinschaft Daudenzell e.V. - ECPv6.15.20//NONSGML v1.0//EN
CALSCALE:GREGORIAN
METHOD:PUBLISH
X-WR-CALNAME:Dorfgemeinschaft Daudenzell e.V.
X-ORIGINAL-URL:https://daudenzell.de
X-WR-CALDESC:Veranstaltungen für Dorfgemeinschaft Daudenzell e.V.
REFRESH-INTERVAL;VALUE=DURATION:PT1H
X-Robots-Tag:noindex
X-PUBLISHED-TTL:PT1H
BEGIN:VTIMEZONE
TZID:Europe/Berlin
BEGIN:DAYLIGHT
TZOFFSETFROM:+0100
TZOFFSETTO:+0200
TZNAME:CEST
DTSTART:20220327T010000
END:DAYLIGHT
BEGIN:STANDARD
TZOFFSETFROM:+0200
TZOFFSETTO:+0100
TZNAME:CET
DTSTART:20221030T010000
END:STANDARD
BEGIN:DAYLIGHT
TZOFFSETFROM:+0100
TZOFFSETTO:+0200
TZNAME:CEST
DTSTART:20230326T010000
END:DAYLIGHT
BEGIN:STANDARD
TZOFFSETFROM:+0200
TZOFFSETTO:+0100
TZNAME:CET
DTSTART:20231029T010000
END:STANDARD
BEGIN:DAYLIGHT
TZOFFSETFROM:+0100
TZOFFSETTO:+0200
TZNAME:CEST
DTSTART:20240331T010000
END:DAYLIGHT
BEGIN:STANDARD
TZOFFSETFROM:+0200
TZOFFSETTO:+0100
TZNAME:CET
DTSTART:20241027T010000
END:STANDARD
BEGIN:DAYLIGHT
TZOFFSETFROM:+0100
TZOFFSETTO:+0200
TZNAME:CEST
DTSTART:20250330T010000
END:DAYLIGHT
BEGIN:STANDARD
TZOFFSETFROM:+0200
TZOFFSETTO:+0100
TZNAME:CET
DTSTART:20251026T010000
END:STANDARD
BEGIN:DAYLIGHT
TZOFFSETFROM:+0100
TZOFFSETTO:+0200
TZNAME:CEST
DTSTART:20260329T010000
END:DAYLIGHT
BEGIN:STANDARD
TZOFFSETFROM:+0200
TZOFFSETTO:+0100
TZNAME:CET
DTSTART:20261025T010000
END:STANDARD
END:VTIMEZONE
BEGIN:VTIMEZONE
TZID:Europe/Helsinki
BEGIN:DAYLIGHT
TZOFFSETFROM:+0200
TZOFFSETTO:+0300
TZNAME:EEST
DTSTART:20230326T010000
END:DAYLIGHT
BEGIN:STANDARD
TZOFFSETFROM:+0300
TZOFFSETTO:+0200
TZNAME:EET
DTSTART:20231029T010000
END:STANDARD
BEGIN:DAYLIGHT
TZOFFSETFROM:+0200
TZOFFSETTO:+0300
TZNAME:EEST
DTSTART:20240331T010000
END:DAYLIGHT
BEGIN:STANDARD
TZOFFSETFROM:+0300
TZOFFSETTO:+0200
TZNAME:EET
DTSTART:20241027T010000
END:STANDARD
BEGIN:DAYLIGHT
TZOFFSETFROM:+0200
TZOFFSETTO:+0300
TZNAME:EEST
DTSTART:20250330T010000
END:DAYLIGHT
BEGIN:STANDARD
TZOFFSETFROM:+0300
TZOFFSETTO:+0200
TZNAME:EET
DTSTART:20251026T010000
END:STANDARD
BEGIN:DAYLIGHT
TZOFFSETFROM:+0200
TZOFFSETTO:+0300
TZNAME:EEST
DTSTART:20260329T010000
END:DAYLIGHT
BEGIN:STANDARD
TZOFFSETFROM:+0300
TZOFFSETTO:+0200
TZNAME:EET
DTSTART:20261025T010000
END:STANDARD
END:VTIMEZONE
BEGIN:VEVENT
DTSTART;VALUE=DATE:20251207
DTEND;VALUE=DATE:20251208
DTSTAMP:20260420T012614
CREATED:20250122T165252Z
LAST-MODIFIED:20250122T165252Z
UID:428-1765065600-1765151999@daudenzell.de
SUMMARY:Weihnachtsmarkt-Ausflug
DESCRIPTION:Wir werden wieder einen gemeinsamen Ausflug zu einem Weihnachtsmarkt machen. Dazu sind alle herzlich eingeladen.
URL:https://daudenzell.de/event/weihnachtsmarkt-ausflug/
ORGANIZER;CN="Dorfgemeinschaft Daudenzell e.V.":MAILTO:dorfgemeinschaft-daudenzell@web.de
END:VEVENT
BEGIN:VEVENT
DTSTART;TZID=Europe/Helsinki:20251109T173000
DTEND;TZID=Europe/Helsinki:20251109T200000
DTSTAMP:20260420T012614
CREATED:20250122T165350Z
LAST-MODIFIED:20250122T165350Z
UID:430-1762709400-1762718400@daudenzell.de
SUMMARY:Martinsumzug
DESCRIPTION:Der alljährliche Martinsumzug findet dieses Jahr Sonntag abends statt.
URL:https://daudenzell.de/event/martinsumzug/
LOCATION:Daudenzell Ortszentrum\, Rathaustraße 1\, Daudenzell-Aglasterhausen\, 74858\, Deutschland
ORGANIZER;CN="Dorfgemeinschaft Daudenzell e.V.":MAILTO:dorfgemeinschaft-daudenzell@web.de
END:VEVENT
BEGIN:VEVENT
DTSTART;VALUE=DATE:20250920
DTEND;VALUE=DATE:20250921
DTSTAMP:20260420T012614
CREATED:20250122T165121Z
LAST-MODIFIED:20250122T165121Z
UID:426-1758326400-1758412799@daudenzell.de
SUMMARY:Ausflug Kinder Zell
DESCRIPTION:Wir werden wieder mit den Zeller Kindern\, sowie den Helferlein vom Pfingstmarkt einen Ausflug machen. \nWohin es diesmal geht wird noch bekanntgegeben.
URL:https://daudenzell.de/event/ausflug-kinder-zell/
ORGANIZER;CN="Dorfgemeinschaft Daudenzell e.V.":MAILTO:dorfgemeinschaft-daudenzell@web.de
END:VEVENT
BEGIN:VEVENT
DTSTART;TZID=Europe/Berlin:20250712T140000
DTEND;TZID=Europe/Berlin:20250712T220000
DTSTAMP:20260420T012614
CREATED:20250122T164915Z
LAST-MODIFIED:20250122T165134Z
UID:423-1752328800-1752357600@daudenzell.de
SUMMARY:Sommerfest / Spielplatzfest
DESCRIPTION:Wir wollen im Sommer wieder ein gemeinsames Sommer- bzw. Spielplatzfest in Daudenzell durchführen. \nGenauere Infos folgen.
URL:https://daudenzell.de/event/sommerfest-spielplatzfest/
LOCATION:Spielplatz Daudenzell\, Landstegweg\, Daudenzell\, 74858\, Germany
ORGANIZER;CN="Dorfgemeinschaft Daudenzell e.V.":MAILTO:dorfgemeinschaft-daudenzell@web.de
END:VEVENT
BEGIN:VEVENT
DTSTART;TZID=Europe/Helsinki:20250608T100000
DTEND;TZID=Europe/Helsinki:20250609T170000
DTSTAMP:20260420T012614
CREATED:20250213T083919Z
LAST-MODIFIED:20250326T134909Z
UID:447-1749376800-1749488400@daudenzell.de
SUMMARY:3. Zeller Schleppertreffen
DESCRIPTION:Nach der tollen zweiten Ausgabe im letzten Jahr\, findet dieses Jahr das 3. Zeller Schleppertreffen im Rahmen des Pfingstmarkt Daudenzell statt. \nDas Treffen läuft an beiden Tagen des Pfingstmarktes\, ein Fahrerlager ist (ab Freitag Abend) eingerichtet. \nAnmeldungen\, auch für das Fahrerlager\, sind über folgende Wege möglich: \n\ndurch Ausfüllen und Abschicken des untenstehenden Formulars\nper Email über diesen Link\ndurch dieses Formular zum Download: Anmeldung-Schleppertreffen-2025\nDieses kann ausgefüllt entweder per Email (Foto oder Scan) an dorfgemeinschaft-daudenzell@web.de geschickt oder zum Schleppertreffen mitgebracht werden.\n\n\nSchlepper beim 1. Zeller Schleppertreffen \nSchlepper beim 1. Zeller Schleppertreffen \n\nAnmeldung SchleppertreffenBitte aktiviere JavaScript in deinem Browser\, um dieses Formular fertigzustellen.Bitte aktiviere JavaScript in deinem Browser\, um dieses Formular fertigzustellen.Name Eigentümer *VornameNachnameAdresse Eigentümer *Telefon Eigentümer *E-Mail-Adresse Eigentümer *Verein EigentümerName FahrerVornameNachnameⓘ Nur notwendig\, falls Fahrer abweichend vom EigentümerAdresse FahrerTelefon FahrerE-Mail-Adresse FahrerVerein FahrerInteresse am Fahrerlager für folgende NächteSamstag 07. auf Sonntag 08. JuniSonntag 08. auf Montag 09. Juniⓘ Es gibt die Möglichkeit\, im Fahrerlager zu übernachten. Sowohl von Samstag auf Sonntag\, als auch von Sonntag auf Montag.\nInfos zum Fahrerlager werden per Mail verschickt.Fabrikat/Modell Schlepper *BaujahrLeistung (in PS)Hubraum (in ccm)ZylinderzahlDatenschutz & Haftungssauschluss *Ich stimme zuIch stimme zu\, dass meine Daten\, die ich in diesem Formular eingegeben habe\, zur Durchführung der Veranstaltung gespeichert werden. Meine Kontaktdaten dürfen verwendet werden\, um mich auf zukünftige Veranstaltungen der Dorfgemeinschaft Daudenzell hinzuweisen. Der Speicherung zur Kontaktaufnahme kann ich jederzeit schriftlich widersprechen.\nMir ist bewusst\, dass die Teilnahme der Veranstaltung auf eigene Gefahr erfolgt\, und ich durch die Abgabe der Anmeldung auf den Rechtsweg bezüglich im Zusammenhang mit dieser Veranstaltung erlittenen Unfälle oder Schäden gegen jegliche an der Durchführung der Veranstaltung beteiligte verzichte.Absenden
URL:https://daudenzell.de/event/3-zeller-schleppertreffen/
LOCATION:Daudenzell Ortszentrum\, Rathaustraße 1\, Daudenzell-Aglasterhausen\, 74858\, Deutschland
ORGANIZER;CN="Dorfgemeinschaft Daudenzell e.V.":MAILTO:dorfgemeinschaft-daudenzell@web.de
END:VEVENT
BEGIN:VEVENT
DTSTART;TZID=Europe/Berlin:20250608T100000
DTEND;TZID=Europe/Berlin:20250609T170000
DTSTAMP:20260420T012614
CREATED:20250122T164150Z
LAST-MODIFIED:20250213T083949Z
UID:418-1749376800-1749488400@daudenzell.de
SUMMARY:44. Pfingstmarkt Daudenzell
DESCRIPTION:Der Zeller Pfingstmarkt ist ein Dorfmarkt\, der jedes Jahr am Pfingstsonntag und Pfingstmontag im Ortskern von Daudenzell von den örtlichen Vereinen ausgetragen wird. \nNach einem Gottesdienst unter freiem Himmel am Sonntag um 10 Uhr\, schlägt Bürgermeister Stefan Kron um 11 Uhr mit musikalischer Umrahmung durch die SF Band aus Schwarzach das Fass an und eröffnet den Pfingstmarkt. \nDie Besucher erwartet eine große Auswahl regionaler Köstlichkeiten\, wie Forelle im Bierteig\, gegrillte Haxen\, Grünkernküchle\, ein großes Kuchenbuffet und vieles mehr. Zahlreiche Verkaufsstände und Schausteller laden zum Bummeln und Verweilen ein. \nAn beiden Tagen ist die musikalische Umrahmung durch verschiedene Livegruppen gesichert. Für die Nachtschwärmer ist am Sonntag ab 21 Uhr die Bar geöffnet. Tagsüber ist eine Planwagenfahrt zwischen Daudenzell und Aglasterhausen eingerichtet. Dort besteht Anschluss zur S-Bahn Linie 51 Richtung Meckesheim. \nIm Rahmen des Pfingstmarktes findet auch in diesem Jahr das Zeller Schleppertreffen statt. Hier gibt es tolle Modelle zu bewundern und es kann sonntags für den schönsten Schlepper abgestimmt werden. \n\nZeller Pfingstmarkt mit Zeller Schleppertreffen
URL:https://daudenzell.de/event/44-pfingstmarkt-daudenzell/
LOCATION:Daudenzell Ortszentrum\, Rathaustraße 1\, Daudenzell-Aglasterhausen\, 74858\, Deutschland
ORGANIZER;CN="Dorfgemeinschaft Daudenzell e.V.":MAILTO:dorfgemeinschaft-daudenzell@web.de
END:VEVENT
BEGIN:VEVENT
DTSTART;TZID=Europe/Berlin:20250328T193000
DTEND;TZID=Europe/Berlin:20250328T213000
DTSTAMP:20260420T012614
CREATED:20250122T165606Z
LAST-MODIFIED:20250123T084905Z
UID:434-1743190200-1743197400@daudenzell.de
SUMMARY:Jahreshauptversammlung 2025
DESCRIPTION:Bei der diesjährigen Jahreshauptversammlung des Dorfgemeinschaft Daudenzell e.V. wird der Vorstand und alle Ämter neu gewählt.
URL:https://daudenzell.de/event/jahreshauptversammlung-2025/
LOCATION:Sportheim FC Daudenzell\, Bodenweg 17-15\, Daudenzell\, 74858\, Germany
ORGANIZER;CN="Dorfgemeinschaft Daudenzell e.V.":MAILTO:dorfgemeinschaft-daudenzell@web.de
END:VEVENT
BEGIN:VEVENT
DTSTART;TZID=Europe/Helsinki:20250310T190000
DTEND;TZID=Europe/Helsinki:20250310T210000
DTSTAMP:20260420T012614
CREATED:20250213T092447Z
LAST-MODIFIED:20250213T092447Z
UID:453-1741633200-1741640400@daudenzell.de
SUMMARY:2. Pfingstmarktsitzung 2025
DESCRIPTION:
URL:https://daudenzell.de/event/2-pfingstmarktsitzung-2025/
LOCATION:Daudenzell Rathaus\, Rathausstraße 2\, Daudenzell\, 74858\, Germany
ORGANIZER;CN="Dorfgemeinschaft Daudenzell e.V.":MAILTO:dorfgemeinschaft-daudenzell@web.de
END:VEVENT
BEGIN:VEVENT
DTSTART;TZID=Europe/Berlin:20250210T190000
DTEND;TZID=Europe/Berlin:20250210T210000
DTSTAMP:20260420T012614
CREATED:20250122T164702Z
LAST-MODIFIED:20250122T164702Z
UID:420-1739214000-1739221200@daudenzell.de
SUMMARY:1. Pfingstmarktsitzung 2025
DESCRIPTION:Auch in diesem Jahr findet wieder der alljährliche Zeller Pfingstmarkt statt. \nZur Pfingstmarktsitzung sind alle Interessierten und Unterstützungswilligen eingeladen. Dort könnt ihr eure Ideen und Anregungen mit einbringen und den Pfingstmarkt mitgestalten.
URL:https://daudenzell.de/event/1-pfingstmarktsitzung/
LOCATION:Daudenzell Rathaus\, Rathausstraße 2\, Daudenzell\, 74858\, Germany
ORGANIZER;CN="Dorfgemeinschaft Daudenzell e.V.":MAILTO:dorfgemeinschaft-daudenzell@web.de
END:VEVENT
BEGIN:VEVENT
DTSTART;TZID=Europe/Helsinki:20240519T110000
DTEND;TZID=Europe/Helsinki:20240520T170000
DTSTAMP:20260420T012614
CREATED:20240422T172153Z
LAST-MODIFIED:20240429T105201Z
UID:364-1716116400-1716224400@daudenzell.de
SUMMARY:2. Zeller Schleppertreffen
DESCRIPTION:Nach der tollen Auftaktveranstaltung im letzten Jahr\, findet dieses Jahr das 2. Zeller Schleppertreffen im Rahmen des Pfingstmarkt Daudenzell statt. \nDas Treffen läuft an beiden Tagen des Pfingstmarktes\, ein Fahrerlager ist eingerichtet. \nWie im vergangenen Jahr werden Sonntags wieder 3 Prämierungen stattfinden: \n\nSchönster Schlepper – von den Besuchern gewählt\nWeiteste Anreise\nÄltester Schlepper\n\nAnmeldungen\, auch für das Fahrerlager\, sind über folgende Wege möglich: \n\ndurch Ausfüllen und Abschicken des untenstehenden Formulars\nper Email über diesen Link\ndurch dieses Formular zum Download: Anmeldung-Schleppertreffen-2024.pdf\nDieses kann ausgefüllt entweder per Email (Foto oder Scan) an dorfgemeinschaft-daudenzell@web.de geschickt oder zum Schleppertreffen mitgebracht werden.\n\n\nZeller Schleppertreffen am Pfingstmarkt \nSchlepper beim 1. Zeller Schleppertreffen \nSchlepper beim 1. Zeller Schleppertreffen \n\nAnmeldung SchleppertreffenBitte aktiviere JavaScript in deinem Browser\, um dieses Formular fertigzustellen.Bitte aktiviere JavaScript in deinem Browser\, um dieses Formular fertigzustellen.Name Eigentümer *VornameNachnameAdresse Eigentümer *Telefon Eigentümer *E-Mail-Adresse Eigentümer *Verein EigentümerName FahrerVornameNachnameⓘ Nur notwendig\, falls Fahrer abweichend vom EigentümerAdresse FahrerTelefon FahrerE-Mail-Adresse FahrerVerein FahrerInteresse am Fahrerlager für folgende NächteSamstag 07. auf Sonntag 08. JuniSonntag 08. auf Montag 09. Juniⓘ Es gibt die Möglichkeit\, im Fahrerlager zu übernachten. Sowohl von Samstag auf Sonntag\, als auch von Sonntag auf Montag.\nInfos zum Fahrerlager werden per Mail verschickt.Fabrikat/Modell Schlepper *BaujahrLeistung (in PS)Hubraum (in ccm)ZylinderzahlDatenschutz & Haftungssauschluss *Ich stimme zuIch stimme zu\, dass meine Daten\, die ich in diesem Formular eingegeben habe\, zur Durchführung der Veranstaltung gespeichert werden. Meine Kontaktdaten dürfen verwendet werden\, um mich auf zukünftige Veranstaltungen der Dorfgemeinschaft Daudenzell hinzuweisen. Der Speicherung zur Kontaktaufnahme kann ich jederzeit schriftlich widersprechen.\nMir ist bewusst\, dass die Teilnahme der Veranstaltung auf eigene Gefahr erfolgt\, und ich durch die Abgabe der Anmeldung auf den Rechtsweg bezüglich im Zusammenhang mit dieser Veranstaltung erlittenen Unfälle oder Schäden gegen jegliche an der Durchführung der Veranstaltung beteiligte verzichte.Absenden
URL:https://daudenzell.de/event/2-zeller-schleppertreffen/
LOCATION:Daudenzell Ortszentrum\, Rathaustraße 1\, Daudenzell-Aglasterhausen\, 74858\, Deutschland
ORGANIZER;CN="Dorfgemeinschaft Daudenzell e.V.":MAILTO:dorfgemeinschaft-daudenzell@web.de
END:VEVENT
BEGIN:VEVENT
DTSTART;TZID=Europe/Helsinki:20240519T100000
DTEND;TZID=Europe/Helsinki:20240520T170000
DTSTAMP:20260420T012614
CREATED:20240125T095701Z
LAST-MODIFIED:20240422T182127Z
UID:349-1716112800-1716224400@daudenzell.de
SUMMARY:43. Pfingstmarkt Daudenzell
DESCRIPTION:Der Zeller Pfingstmarkt ist ein Dorfmarkt\, der jedes Jahr am Pfingstsonntag und Pfingstmontag im Ortskern von Daudenzell von den örtlichen Vereinen ausgetragen wird. \nNach einem Gottesdienst unter freiem Himmel am Sonntag um 10 Uhr\, schlägt Bürgermeister Stefan Kron um 11 Uhr mit musikalischer Umrahmung durch die SF Band aus Schwarzach das Fass an und eröffnet den Pfingstmarkt. \nDie Besucher erwartet eine große Auswahl regionaler Köstlichkeiten\, wie Forelle im Bierteig\, gegrillte Haxen\, Grünkernküchle\, ein großes Kuchenbuffet und vieles mehr. Zahlreiche Verkaufsstände und Schausteller laden zum Bummeln und Verweilen ein. \nAn beiden Tagen ist die musikalische Umrahmung durch verschiedene Livegruppen gesichert. Für die Nachtschwärmer ist am Sonntag ab 21 Uhr die Bar geöffnet. Tagsüber ist eine Planwagenfahrt zwischen Daudenzell und Aglasterhausen eingerichtet. Dort besteht Anschluss zur S-Bahn Linie 51 Richtung Meckesheim. \nIm Rahmen des Pfingstmarktes findet auch in diesem Jahr das Zeller Schleppertreffen statt. Hier gibt es tolle Modelle zu bewundern und es kann sonntags für den schönsten Schlepper abgestimmt werden. \n\nZeller Pfingstmarkt mit Zeller Schleppertreffen
URL:https://daudenzell.de/event/43-pfingstmarkt-daudenzell/
LOCATION:Daudenzell Ortszentrum\, Rathaustraße 1\, Daudenzell-Aglasterhausen\, 74858\, Deutschland
ORGANIZER;CN="Dorfgemeinschaft Daudenzell e.V.":MAILTO:dorfgemeinschaft-daudenzell@web.de
END:VEVENT
BEGIN:VEVENT
DTSTART;TZID=Europe/Helsinki:20240430T180000
DTEND;TZID=Europe/Helsinki:20240430T200000
DTSTAMP:20260420T012614
CREATED:20240424T153049Z
LAST-MODIFIED:20240424T153049Z
UID:401-1714500000-1714507200@daudenzell.de
SUMMARY:Maibaum-Aufstellung
DESCRIPTION:  \nDie freiwillige Feuerwehr Daudenzell stellt wieder den Maibaum auf dem Marktplatz auf.Beginn ist 18 Uhr\, die Aufstellung erfolgt um 19 Uhr.Für das leibliche Wohl ist gesorgt.
URL:https://daudenzell.de/event/maibaum-aufstellung/
LOCATION:Daudenzell Ortszentrum\, Rathaustraße 1\, Daudenzell-Aglasterhausen\, 74858\, Deutschland
END:VEVENT
BEGIN:VEVENT
DTSTART;TZID=Europe/Helsinki:20240406T133000
DTEND;TZID=Europe/Helsinki:20240406T200000
DTSTAMP:20260420T012614
CREATED:20240227T174144Z
LAST-MODIFIED:20240227T174420Z
UID:352-1712410200-1712433600@daudenzell.de
SUMMARY:Brauereibesichtigung Distelhäuser
DESCRIPTION:Brauereibesichtigung mit Bierprobe und Wurstsalat. \nTeilnahme ist kostenlos\, die Kosten übernimmt die Dorfgemeinschaft. \nAnmeldung unter dorfgemeinschaft-daudenzell@web.de ¹ \n \n“Die Distelhäuser Brauerei 030” by Triplec85 is licensed under CC BY-SA 4.0. \n  \n¹ Bei mehr Anmeldungen als verfügbaren Plätzen\, werden Pfingstmarkthelfer bevorzugt berücksichtigt.
URL:https://daudenzell.de/event/brauereibesichtigung-distelhaeuser/
LOCATION:Distelhäuser Brauerei\, Distelhausen\, Grünsfelder Straße 3\, Tauberbischofsheim\, 97941\, Deutschland
ORGANIZER;CN="Dorfgemeinschaft Daudenzell e.V.":MAILTO:dorfgemeinschaft-daudenzell@web.de
END:VEVENT
BEGIN:VEVENT
DTSTART;TZID=Europe/Berlin:20230528T110000
DTEND;TZID=Europe/Berlin:20230529T170000
DTSTAMP:20260420T012614
CREATED:20230503T194039Z
LAST-MODIFIED:20230509T074614Z
UID:104-1685271600-1685379600@daudenzell.de
SUMMARY:1. Zeller Schleppertreffen
DESCRIPTION:Im Rahmen des diesjährigen Daudenzeller Pfingstmarktes findet das 1. Zeller Schleppertreffen statt. \nFolgendes ist dabei unter anderem geboten: \n\nSonntag 11 Uhr Fassanstich\nFahrerlager\nSonntags Schlepperprämierung\nLivemusik an beiden Tagen\nBarbetrieb sonntags ab 21 Uhr\n\nAnmeldungen für das Fahrerlager unter dorfgemeinschaft-daudenzell@web.de
URL:https://daudenzell.de/event/1-zeller-schleppertreffen/
LOCATION:Daudenzell Ortszentrum\, Rathaustraße 1\, Daudenzell-Aglasterhausen\, 74858\, Deutschland
ORGANIZER;CN="Dorfgemeinschaft Daudenzell e.V.":MAILTO:dorfgemeinschaft-daudenzell@web.de
END:VEVENT
BEGIN:VEVENT
DTSTART;TZID=Europe/Berlin:20230528T100000
DTEND;TZID=Europe/Berlin:20230529T170000
DTSTAMP:20260420T012614
CREATED:20230426T122915Z
LAST-MODIFIED:20230507T175409Z
UID:18-1685268000-1685379600@daudenzell.de
SUMMARY:Pfingstmarkt Daudenzell 2023
DESCRIPTION:Der Zeller Pfingstmarkt ist ein Dorfmarkt\, der jedes Jahr am Pfingstsonntag und Pfingstmontag im Ortskern von Daudenzell von den örtlichen Vereinen ausgetragen wird. \nNach einem Gottesdienst unter freiem Himmel am Sonntag um 10 Uhr\, schlägt Bürgermeister Stefan Kron um 11 Uhr mit musikalischer Umrahmung durch die SF Band aus Schwarzach das Fass an und eröffnet den Pfingstmarkt. \nDie Besucher erwartet eine große Auswahl regionaler Köstlichkeiten\, wie Forelle im Bierteig\, gegrillte Haxen\, Grünkernküchle\, ein großes Kuchenbuffet und vieles mehr. Zahlreiche Verkaufsstände und Schausteller laden zum Bummeln und Verweilen ein. \nAn beiden Tagen ist die musikalische Umrahmung durch verschiedene Livegruppen gesichert. Für die Nachtschwärmer ist am Sonntag ab 21 Uhr die Bar geöffnet. Tagsüber ist eine Planwagenfahrt zwischen Daudenzell und Aglasterhausen eingerichtet. Dort besteht Anschluss zur S-Bahn Linie 51 Richtung Meckesheim. \n\nZeller Pfingstmarkt 2023 mit 1. Zeller Schleppertreff
URL:https://daudenzell.de/event/pfingstmarkt-daudenzell-2023/
LOCATION:Daudenzell Ortszentrum\, Rathaustraße 1\, Daudenzell-Aglasterhausen\, 74858\, Deutschland
ORGANIZER;CN="Dorfgemeinschaft Daudenzell e.V.":MAILTO:dorfgemeinschaft-daudenzell@web.de
END:VEVENT
END:VCALENDAR